Workbook
Name ____DIA1: #REF!
Name ____ELL45: #REF!
Name ____ELL90: #REF!
Name ____HEI1: #REF!
Name ____MAT1: #REF!
Name ____MAT2: #REF!
Name ____P1: #REF!
Name ____P10: #REF!
Name ____P11: #REF!
Name ____P12: #REF!
Name ____P13: #REF!
Name ____P14: #REF!
Name ____P15: #REF!
Name ____P16: #REF!
Name ____P17: #REF!
Name ____P2: #REF!
Name ____P3: #REF!
Name ____P4: #REF!
Name ____P5: #REF!
Name ____P6: #REF!
Name ____P7: #REF!
Name ____P8: #REF!
Name ____P9: #REF!
Name ____PH1: #REF!
Name ____RE100: #REF!
Name ____RE104: #REF!
Name ____RE112: #REF!
Name ____RE26: #REF!
Name ____RE28: #REF!
Name ____RE30: #REF!
Name ____RE32: #REF!
Name ____RE34: #REF!
Name ____RE36: #REF!
Name ____RE38: #REF!
Name ____RE40: #REF!
Name ____RE42: #REF!
Name ____RE44: #REF!
Name ____RE48: #REF!
Name ____RE52: #REF!
Name ____RE56: #REF!
Name ____RE60: #REF!
Name ____RE64: #REF!
Name ____RE68: #REF!
Name ____RE72: #REF!
Name ____RE76: #REF!
Name ____RE80: #REF!
Name ____RE88: #REF!
Name ____RE92: #REF!
Name ____RE96: #REF!
Name ____SD1: #REF!
Name ____sd2: #REF!
Name ____ST1: #REF!
Name ____ST2: #REF!
Name ____TK1: #REF!
Name ____TS1: #REF!
Name ____TS2: #REF!
Name ____wv1: #REF!
Name ____YP1: #REF!
Name ____YP2: #REF!
Name ___DIA1: #REF!

Sheet 집계표
A1: =#REF! -> #REF!
A2: 품 명 | B2: 규 격 | C2: 단위 | D2: 수량 | E2: 재 료 비 | G2: 노 무 비 | I2: 경 비 | K2: 합 계 | M2: 비고
E3: 단가 | F3: 금액 | G3: 단가 | H3: 금액 | I3: 단가 | J3: 금액 | K3: 단가 | L3: 금액
A4: [ 집 계 표 ]
A5: 1. 시스템에어컨 설치공사
A6: ='내역서-EHP'!A4 -> 1-1. 시스템에어컨 장비 설치공사 | C6: 식 | D6: 1 | E6: ='내역서-EHP'!F34 -> 0 | F6: =TRUNC(D6*E6,0) -> 0 | G6: ='내역서-EHP'!H34 -> 0 | H6: =TRUNC(D6*G6,0) -> 0 | I6: ='내역서-EHP'!J34 -> 0 | J6: =TRUNC(D6*I6,0) -> 0 | L6: =F6+H6+J6 -> 0
A7: ='내역서-EHP'!A35 -> 1-2. 냉매배관 및 드레인배관공사 | C7: 식 | D7: 1 | E7: ='내역서-EHP'!F127 -> 0 | F7: =TRUNC(D7*E7,0) -> 0 | G7: ='내역서-EHP'!H127 -> 0 | H7: =TRUNC(D7*G7,0) -> 0 | I7: ='내역서-EHP'!J127 -> 0 | J7: =TRUNC(D7*I7,0) -> 0 | L7: =F7+H7+J7 -> 0
A8: ='내역서-EHP'!A128 -> 1-3. 제어, 시운전 및 기타공사 | C8: 식 | D8: 1 | E8: ='내역서-EHP'!F158 -> 0 | F8: =TRUNC(D8*E8,0) -> 0 | G8: ='내역서-EHP'!H158 -> 0 | H8: =TRUNC(D8*G8,0) -> 0 | I8: ='내역서-EHP'!J158 -> 0 | J8: =TRUNC(D8*I8,0) -> 0 | L8: =F8+H8+J8 -> 0
A9: ='내역서-EHP'!A159 -> 1-4. 매립덕트형 덕트공사 | C9: 식 | D9: 1 | E9: ='내역서-EHP'!F187 -> 0 | F9: =TRUNC(D9*E9,0) -> 0 | G9: ='내역서-EHP'!H187 -> 0 | H9: =TRUNC(D9*G9,0) -> 0 | I9: ='내역서-EHP'!J187 -> 0 | J9: =TRUNC(D9*I9,0) -> 0 | L9: =F9+H9+J9 -> 0
A11: [ 소 계 ] | F11: =SUM(F6:F10) -> 0 | H11: =SUM(H6:H10) -> 0 | J11: =SUM(J6:J10) -> 0 | L11: =F11+H11+J11 -> 0
A34: [ 합 계 ] | F34: =SUM(F16,F11) -> 0 | H34: =SUM(H16,H11) -> 0 | J34: =SUM(J16,J11) -> 0 | L34: =F34+H34+J34 -> 0

Sheet 내역서-EHP
A1: =#REF! -> #REF!
A2: 품 명 | B2: 규 격 | C2: 단위 | D2: 수량 | E2: 재 료 비 | G2: 노 무 비 | I2: 경 비 | K2: 합 계 | M2: 비고
E3: 단가 | F3: 금액 | G3: 단가 | H3: 금액 | I3: 단가 | J3: 금액 | K3: 단가 | L3: 금액
A4: 1-1. 시스템에어컨 장비 설치공사
A5: 실외기(8HP, MULTI V ｉ 슈프림 Lite) | B5: RPUW082X9L | C5: 대 | D5: 1 | H5: =ROUNDUP(D5*G5,0) -> 0 | J5: =ROUNDUP(D5*I5,0) -> 0 | K5: =E5+G5+I5 -> 0 | L5: =F5+H5+J5 -> 0 | M5: 에너지효율 1등급
A6: 실외기(36HP, MULTI V ｉ 슈프림 Lite) | B6: RP-W362X9L | C6: 대 | D6: 1 | H6: =ROUNDUP(D6*G6,0) -> 0 | J6: =ROUNDUP(D6*I6,0) -> 0 | K6: =E6+G6+I6 -> 0 | L6: =F6+H6+J6 -> 0 | M6: 에너지효율 1등급 실외기 조합
A7: 프리미엄 실내기 (14.5kW, 4WAY, Uvnano, 듀얼베인) | B7: RNW1451A2U | C7: 대 | D7: 1 | H7: =ROUNDUP(D7*G7,0) -> 0 | J7: =ROUNDUP(D7*I7,0) -> 0 | K7: =E7+G7+I7 -> 0 | L7: =F7+H7+J7 -> 0
A8: 실내기 (4.0kW, 저정압 매립덕트) | B8: RNW0400L2S | C8: 대 | D8: 1 | H8: =ROUNDUP(D8*G8,0) -> 0 | J8: =ROUNDUP(D8*I8,0) -> 0 | K8: =E8+G8+I8 -> 0 | L8: =F8+H8+J8 -> 0
A9: 실내기 (7.2kW, 고정압 매립덕트) | B9: RNW0721B2S | C9: 대 | D9: 1 | H9: =ROUNDUP(D9*G9,0) -> 0 | J9: =ROUNDUP(D9*I9,0) -> 0 | K9: =E9+G9+I9 -> 0 | L9: =F9+H9+J9 -> 0
A10: 실내기 (8.3kW, 고정압 매립덕트) | B10: RNW0831B2S | C10: 대 | D10: 1 | H10: =ROUNDUP(D10*G10,0) -> 0 | J10: =ROUNDUP(D10*I10,0) -> 0 | K10: =E10+G10+I10 -> 0 | L10: =F10+H10+J10 -> 0
A11: 실내기 (29.0kW, 고정압 매립덕트) | B11: RNW2900B2S | C11: 대 | D11: 3 | H11: =ROUNDUP(D11*G11,0) -> 0 | J11: =ROUNDUP(D11*I11,0) -> 0 | K11: =E11+G11+I11 -> 0 | L11: =F11+H11+J11 -> 0
A12: 판넬 - 4WAY(듀얼베인) | B12: PFP-WA4CW | C12: 대 | D12: 1 | H12: =ROUNDUP(D12*G12,0) -> 0 | J12: =ROUNDUP(D12*I12,0) -> 0 | K12: =E12+G12+I12 -> 0 | L12: =F12+H12+J12 -> 0
A13: NEW 스탠다드 유선리모컨 | B13: PREMTB101 | C13: EA | D13: 7 | H13: =ROUNDUP(D13*G13,0) -> 0 | J13: =ROUNDUP(D13*I13,0) -> 0 | K13: =E13+G13+I13 -> 0 | L13: =F13+H13+J13 -> 0
A14: 브렌치조인트 | B14: PBL-8701H2 | C14: EA | D14: 1 | H14: =ROUNDUP(D14*G14,0) -> 0 | J14: =ROUNDUP(D14*I14,0) -> 0 | K14: =E14+G14+I14 -> 0 | L14: =F14+H14+J14 -> 0
A15: 브렌치조인트 | B15: PBL-7001H2 | C15: EA | D15: 1 | H15: =ROUNDUP(D15*G15,0) -> 0 | J15: =ROUNDUP(D15*I15,0) -> 0 | K15: =E15+G15+I15 -> 0 | L15: =F15+H15+J15 -> 0
A16: 브렌치조인트 | B16: PBL-3501H2 | C16: EA | D16: 1 | H16: =ROUNDUP(D16*G16,0) -> 0 | J16: =ROUNDUP(D16*I16,0) -> 0 | K16: =E16+G16+I16 -> 0 | L16: =F16+H16+J16 -> 0
A17: 브렌치조인트 | B17: PBL-1601H2 | C17: EA | D17: 2 | H17: =ROUNDUP(D17*G17,0) -> 0 | J17: =ROUNDUP(D17*I17,0) -> 0 | K17: =E17+G17+I17 -> 0 | L17: =F17+H17+J17 -> 0
A18: 브렌치조인트 | B18: PCN-11600H2 | C18: EA | D18: 1 | H18: =ROUNDUP(D18*G18,0) -> 0 | J18: =ROUNDUP(D18*I18,0) -> 0 | K18: =E18+G18+I18 -> 0 | L18: =F18+H18+J18 -> 0
A19: 노무비 | B19: 기계설비공 | C19: 인 | D19: 7 | J19: =ROUNDUP(D19*I19,0) -> 0 | K19: =E19+G19+I19 -> 0 | L19: =F19+H19+J19 -> 0
A20: 노무비 | B20: 보통인부 | C20: 인 | D20: 1 | J20: =ROUNDUP(D20*I20,0) -> 0 | K20: =E20+G20+I20 -> 0 | L20: =F20+H20+J20 -> 0
A21: 공구손료 | B21: 노무비의 3% | C21: 식 | D21: 1 | H21: =ROUNDUP(D21*G21,0) -> 0 | J21: =ROUNDUP(D21*I21,0) -> 0 | K21: =E21+G21+I21 -> 0 | L21: =F21+H21+J21 -> 0
A34: [ 소 계 ] | F34: =SUM(F5:F33) -> 0 | H34: =SUM(H5:H33) -> 0 | J34: =SUM(J5:J33) -> 0 | L34: =F34+H34+J34 -> 0
A35: 1-2. 냉매배관 및 드레인배관공사
A36: 동파이프(연관) | B36: φ6.35 * 0.8T | C36: m | D36: 11 | H36: =ROUNDUP(D36*G36,0) -> 0 | J36: =ROUNDUP(D36*I36,0) -> 0 | K36: =E36+G36+I36 -> 0 | L36: =F36+H36+J36 -> 0
A37: 동파이프(연관) | B37: φ9.52 * 0.8T | C37: m | D37: 35 | H37: =ROUNDUP(D37*G37,0) -> 0 | J37: =ROUNDUP(D37*I37,0) -> 0 | K37: =E37+G37+I37 -> 0 | L37: =F37+H37+J37 -> 0
A38: 동파이프(연관) | B38: φ12.7 * 0.8T | C38: m | D38: 11 | H38: =ROUNDUP(D38*G38,0) -> 0 | J38: =ROUNDUP(D38*I38,0) -> 0 | K38: =E38+G38+I38 -> 0 | L38: =F38+H38+J38 -> 0
A39: 동파이프(연관) | B39: φ15.88 * 1.0T | C39: m | D39: 35 | H39: =ROUNDUP(D39*G39,0) -> 0 | J39: =ROUNDUP(D39*I39,0) -> 0 | K39: =E39+G39+I39 -> 0 | L39: =F39+H39+J39 -> 0
A40: 동파이프(직관) | B40: φ9.52 * 0.8T | C40: m | D40: 41 | H40: =ROUNDUP(D40*G40,0) -> 0 | J40: =ROUNDUP(D40*I40,0) -> 0 | K40: =E40+G40+I40 -> 0 | L40: =F40+H40+J40 -> 0
A41: 동파이프(직관) | B41: φ12.7 * 0.8T | C41: m | D41: 6 | H41: =ROUNDUP(D41*G41,0) -> 0 | J41: =ROUNDUP(D41*I41,0) -> 0 | K41: =E41+G41+I41 -> 0 | L41: =F41+H41+J41 -> 0
A42: 동파이프(직관) | B42: φ15.88 * 1.0T | C42: m | D42: 11 | H42: =ROUNDUP(D42*G42,0) -> 0 | J42: =ROUNDUP(D42*I42,0) -> 0 | K42: =E42+G42+I42 -> 0 | L42: =F42+H42+J42 -> 0
A43: 동파이프(직관) | B43: φ19.05 * 1.0T | C43: m | D43: 58 | H43: =ROUNDUP(D43*G43,0) -> 0 | J43: =ROUNDUP(D43*I43,0) -> 0 | K43: =E43+G43+I43 -> 0 | L43: =F43+H43+J43 -> 0
A44: 동파이프(직관) | B44: φ22.22 * 1.0T | C44: m | D44: 11 | H44: =ROUNDUP(D44*G44,0) -> 0 | J44: =ROUNDUP(D44*I44,0) -> 0 | K44: =E44+G44+I44 -> 0 | L44: =F44+H44+J44 -> 0
A45: 동파이프(직관) | B45: φ28.58 * 1.0T | C45: m | D45: 6 | H45: =ROUNDUP(D45*G45,0) -> 0 | J45: =ROUNDUP(D45*I45,0) -> 0 | K45: =E45+G45+I45 -> 0 | L45: =F45+H45+J45 -> 0
A46: 동파이프(직관) | B46: φ34.92 * 1.2T | C46: m | D46: 11 | H46: =ROUNDUP(D46*G46,0) -> 0 | J46: =ROUNDUP(D46*I46,0) -> 0 | K46: =E46+G46+I46 -> 0 | L46: =F46+H46+J46 -> 0
A47: 동파이프(직관) | B47: φ41.28 * 1.45T | C47: m | D47: 28 | H47: =ROUNDUP(D47*G47,0) -> 0 | J47: =ROUNDUP(D47*I47,0) -> 0 | K47: =E47+G47+I47 -> 0 | L47: =F47+H47+J47 -> 0
... A77: 고무발포보온재연결부보강테이프 | B77: 50mm*50m | C77: EA | D77: 2 | H77: =ROUNDUP(D77*G77,0) -> 0 | J77: =ROUNDUP(D77*I77,0) -> 0 | K77: =E77+G77+I77 -> 0 | L77: =F77+H77+J77 -> 0
A78: 냉동마감테이프 | C78: EA | D78: 6 | H78: =ROUNDUP(D78*G78,0) -> 0 | J78: =ROUNDUP(D78*I78,0) -> 0 | K78: =E78+G78+I78 -> 0 | L78: =F78+H78+J78 -> 0
A79: 압력게이지 | B79: 70kgf/㎠ (R-410A 用) | C79: EA | D79: 2 | H79: =ROUNDUP(D79*G79,0) -> 0 | J79: =ROUNDUP(D79*I79,0) -> 0 | K79: =E79+G79+I79 -> 0 | L79: =F79+H79+J79 -> 0
A80: 차지니쁠 | B80: φ6.35 | C80: EA | D80: 2 | H80: =ROUNDUP(D80*G80,0) -> 0 | J80: =ROUNDUP(D80*I80,0) -> 0 | K80: =E80+G80+I80 -> 0 | L80: =F80+H80+J80 -> 0
A81: 후레어너트 | B81: φ6.35 | C81: EA | D81: 2 | H81: =ROUNDUP(D81*G81,0) -> 0 | J81: =ROUNDUP(D81*I81,0) -> 0 | K81: =E81+G81+I81 -> 0 | L81: =F81+H81+J81 -> 0
A82: 드레인연결호수 | B82: PDH-QA07T | C82: EA | D82: 7 | H82: =ROUNDUP(D82*G82,0) -> 0 | J82: =ROUNDUP(D82*I82,0) -> 0 | K82: =E82+G82+I82 -> 0 | L82: =F82+H82+J82 -> 0
A83: PVC파이프 | B83: 25A | C83: m | D83: 60 | H83: =ROUNDUP(D83*G83,0) -> 0 | J83: =ROUNDUP(D83*I83,0) -> 0 | K83: =E83+G83+I83 -> 0 | L83: =F83+H83+J83 -> 0
A84: PVC파이프 | B84: 40A | C84: m | D84: 21 | H84: =ROUNDUP(D84*G84,0) -> 0 | J84: =ROUNDUP(D84*I84,0) -> 0 | K84: =E84+G84+I84 -> 0 | L84: =F84+H84+J84 -> 0
A85: PVC파이프 | B85: 50A | C85: m | D85: 20 | H85: =ROUNDUP(D85*G85,0) -> 0 | J85: =ROUNDUP(D85*I85,0) -> 0 | K85: =E85+G85+I85 -> 0 | L85: =F85+H85+J85 -> 0
A86: PVC 보온재 | B86: 25A * 10T | C86: m | D86: 60 | H86: =ROUNDUP(D86*G86,0) -> 0 | J86: =ROUNDUP(D86*I86,0) -> 0 | K86: =E86+G86+I86 -> 0 | L86: =F86+H86+J86 -> 0
A87: PVC 보온재 | B87: 40A * 10T | C87: m | D87: 21 | H87: =ROUNDUP(D87*G87,0) -> 0 | J87: =ROUNDUP(D87*I87,0) -> 0 | K87: =E87+G87+I87 -> 0 | L87: =F87+H87+J87 -> 0
A88: PVC 보온재 | B88: 50A * 10T | C88: m | D88: 20 | H88: =ROUNDUP(D88*G88,0) -> 0 | J88: =ROUNDUP(D88*I88,0) -> 0 | K88: =E88+G88+I88 -> 0 | L88: =F88+H88+J88 -> 0
A89: PVC L보 | B89: 25A | C89: EA | D89: 21 | H89: =ROUNDUP(D89*G89,0) -> 0 | J89: =ROUNDUP(D89*I89,0) -> 0 | K89: =E89+G89+I89 -> 0 | L89: =F89+H89+J89 -> 0
A90: PVC L보 | B90: 40A | C90: EA | D90: 14 | H90: =ROUNDUP(D90*G90,0) -> 0 | J90: =ROUNDUP(D90*I90,0) -> 0 | K90: =E90+G90+I90 -> 0 | L90: =F90+H90+J90 -> 0
... A96: PVC 본드 | B96: 1kg | C96: EA | D96: 1 | H96: =ROUNDUP(D96*G96,0) -> 0 | J96: =ROUNDUP(D96*I96,0) -> 0 | K96: =E96+G96+I96 -> 0 | L96: =F96+H96+J96 -> 0
A97: 알루미늄 은박테이프 | C97: EA | D97: 1 | H97: =ROUNDUP(D97*G97,0) -> 0 | J97: =ROUNDUP(D97*I97,0) -> 0 | K97: =E97+G97+I97 -> 0 | L97: =F97+H97+J97 -> 0
A98: 배관 행거 | B98: 50A | C98: EA | D98: 38 | H98: =ROUNDUP(D98*G98,0) -> 0 | J98: =ROUNDUP(D98*I98,0) -> 0 | K98: =E98+G98+I98 -> 0 | L98: =F98+H98+J98 -> 0
A99: 배관 행거 | B99: 65A | C99: EA | D99: 50 | H99: =ROUNDUP(D99*G99,0) -> 0 | J99: =ROUNDUP(D99*I99,0) -> 0 | K99: =E99+G99+I99 -> 0 | L99: =F99+H99+J99 -> 0
A100: 배관 행거 | B100: 80A | C100: EA | D100: 6 | H100: =ROUNDUP(D100*G100,0) -> 0 | J100: =ROUNDUP(D100*I100,0) -> 0 | K100: =E100+G100+I100 -> 0 | L100: =F100+H100+J100 -> 0
A101: 배관 행거 | B101: 100A | C101: EA | D101: 16 | H101: =ROUNDUP(D101*G101,0) -> 0 | J101: =ROUNDUP(D101*I101,0) -> 0 | K101: =E101+G101+I101 -> 0 | L101: =F101+H101+J101 -> 0
A102: 세트앵커 | B102: 9.52mm | C102: EA | D102: 28 | H102: =ROUNDUP(D102*G102,0) -> 0 | J102: =ROUNDUP(D102*I102,0) -> 0 | K102: =E102+G102+I102 -> 0 | L102: =F102+H102+J102 -> 0
A103: 스트롱앵커 | B103: 9.52mm | C103: EA | D103: 110 | H103: =ROUNDUP(D103*G103,0) -> 0 | J103: =ROUNDUP(D103*I103,0) -> 0 | K103: =E103+G103+I103 -> 0 | L103: =F103+H103+J103 -> 0
A104: 전산볼트 | B104: 9.52mm | C104: m | D104: 138 | H104: =ROUNDUP(D104*G104,0) -> 0 | J104: =ROUNDUP(D104*I104,0) -> 0 | K104: =E104+G104+I104 -> 0 | L104: =F104+H104+J104 -> 0
A105: 와샤&너트&소켓 | C105: EA | D105: 138 | H105: =ROUNDUP(D105*G105,0) -> 0 | J105: =ROUNDUP(D105*I105,0) -> 0 | K105: =E105+G105+I105 -> 0 | L105: =F105+H105+J105 -> 0
A106: 잡자재비 | B106: 재료비의 3% | C106: 식 | D106: 1 | H106: =ROUNDUP(D106*G106,0) -> 0 | J106: =ROUNDUP(D106*I106,0) -> 0 | K106: =E106+G106+I106 -> 0 | L106: =F106+H106+J106 -> 0
A107: 장비사용 | B107: 고소작업대 | C107: 식 | D107: 2 | K107: =E107+G107+I107 -> 0 | L107: =F107+H107+J107 -> 0
A108: 노무비 | B108: 배관공 | C108: 인 | D108: 15 | J108: =ROUNDUP(D108*I108,0) -> 0 | K108: =E108+G108+I108 -> 0 | L108: =F108+H108+J108 -> 0
A109: 노무비 | B109: 용접공 | C109: 인 | D109: 6 | J109: =ROUNDUP(D109*I109,0) -> 0 | K109: =E109+G109+I109 -> 0 | L109: =F109+H109+J109 -> 0
A110: 노무비 | B110: 보온공 | C110: 인 | D110: 16 | J110: =ROUNDUP(D110*I110,0) -> 0 | K110: =E110+G110+I110 -> 0 | L110: =F110+H110+J110 -> 0
A111: 노무비 | B111: 보통인부 | C111: 인 | D111: 10 | J111: =ROUNDUP(D111*I111,0) -> 0 | K111: =E111+G111+I111 -> 0 | L111: =F111+H111+J111 -> 0
A112: 공구손료 | B112: 노무비의 3% | C112: 식 | D112: 1 | J112: =ROUNDUP(D112*I112,0) -> 0 | K112: =E112+G112+I112 -> 0 | L112: =F112+H112+J112 -> 0
A127: [ 소 계 ] | F127: =SUM(F36:F126) -> 0 | H127: =SUM(H36:H126) -> 0 | J127: =SUM(J36:J126) -> 0 | L127: =F127+H127+J127 -> 0
A128: 1-3. 제어, 시운전 및 기타공사
A129: 리모컨용선 | B129: 24WG²* 3C | C129: m | D129: 70 | K129: =E129+G129+I129 -> 0 | L129: =F129+H129+J129 -> 0
A130: 실드통신선 | B130: 1.5mm²* 2C | C130: m | D130: 211 | K130: =E130+G130+I130 -> 0 | L130: =F130+H130+J130 -> 0
A131: 방수플랙시블관 | B131: φ16 | C131: m | D131: 281 | K131: =E131+G131+I131 -> 0 | L131: =F131+H131+J131 -> 0
A132: 전기테이프 | B132: 3M | C132: EA | D132: 2 | K132: =E132+G132+I132 -> 0 | L132: =F132+H132+J132 -> 0
A133: 질소 | B133: 질소 | C133: B/T | D133: 3 | K133: =E133+G133+I133 -> 0 | L133: =F133+H133+J133 -> 0
A134: 산소 | B134: 산소 | C134: B/T | D134: 1 | K134: =E134+G134+I134 -> 0 | L134: =F134+H134+J134 -> 0
A135: LPG | B135: LPG | C135: B/T | D135: 1 | K135: =E135+G135+I135 -> 0 | L135: =F135+H135+J135 -> 0
A136: 냉매 | B136: R-410A | C136: kg | D136: 23 | K136: =E136+G136+I136 -> 0 | L136: =F136+H136+J136 -> 0
A137: 잡자재비 | B137: 재료비의 3% | C137: 식 | D137: 1 | K137: =E137+G137+I137 -> 0 | L137: =F137+H137+J137 -> 0
A138: 외벽 노출 입상 배관 커버 | B138: 함석 | C138: m | D138: 5 | K138: =E138+G138+I138 -> 0 | L138: =F138+H138+J138 -> 0
A139: 배관tray | B139: 아연도강판1.2t | C139: m | D139: 3 | K139: =E139+G139+I139 -> 0 | L139: =F139+H139+J139 -> 0
A140: 실외기 받침대(UX2) | B140: 920*775*200 | C140: EA | D140: 1 | K140: =E140+G140+I140 -> 0 | L140: =F140+H140+J140 -> 0
... A146: 공구손료 | B146: 노무비의 3% | C146: 식 | D146: 1 | K146: =E146+G146+I146 -> 0 | L146: =F146+H146+J146 -> 0
A158: [ 소 계 ] | F158: =SUM(F129:F157) -> 0 | H158: =SUM(H129:H157) -> 0 | J158: =SUM(J129:J157) -> 0 | L158: =F158+H158+J158 -> 0
A159: 1-4. 매립덕트형 덕트공사
A160: 보온플렉시블덕트(토출, 흡입겸용) | B160: Φ200 | C160: m | D160: 52 | K160: =E160+G160+I160 -> 0 | L160: =F160+H160+J160 -> 0
A161: 보온플렉시블덕트(토출, 흡입겸용) | B161: Φ250 | C161: m | D161: 294 | K161: =E161+G161+I161 -> 0 | L161: =F161+H161+J161 -> 0
A162: SUS밴드 | B162: Φ200 | C162: EA | D162: 16 | K162: =E162+G162+I162 -> 0 | L162: =F162+H162+J162 -> 0
A163: SUS밴드 | B163: Φ250 | C163: EA | D163: 66 | K163: =E163+G163+I163 -> 0 | L163: =F163+H163+J163 -> 0
A164: 토출챔버(주문 제작) | B164: 700*190*260(Φ200) | C164: EA | D164: 1 | K164: =E164+G164+I164 -> 0 | L164: =F164+H164+J164 -> 0
A165: 토출챔버 | B165: 900*270*270(Φ200) | C165: EA | D165: 1 | K165: =E165+G165+I165 -> 0 | L165: =F165+H165+J165 -> 0
A166: 토출챔버(관경, 구수 변경 제작) | B166: 900*270*270(Φ200) | C166: EA | D166: 1 | K166: =E166+G166+I166 -> 0 | L166: =F166+H166+J166 -> 0
A167: 토출챔버(관경, 구수 변경 제작) | B167: 1562*460*355 | C167: EA | D167: 3 | K167: =E167+G167+I167 -> 0 | L167: =F167+H167+J167 -> 0
A168: 흡입챔버(주문제작) | B168: 700*190*260(Φ200) | C168: EA | D168: 1 | K168: =E168+G168+I168 -> 0 | L168: =F168+H168+J168 -> 0
A169: 흡입챔버 | B169: 900*270*270(Φ200) | C169: EA | D169: 1 | K169: =E169+G169+I169 -> 0 | L169: =F169+H169+J169 -> 0
A170: 흡입챔버(관경, 구수 변경) | B170: 900*270*270(Φ200) | C170: EA | D170: 1 | K170: =E170+G170+I170 -> 0 | L170: =F170+H170+J170 -> 0
A171: 흡입챔버(관경, 구수 변경) | B171: 1562*460*355 | C171: EA | D171: 3 | K171: =E171+G171+I171 -> 0 | L171: =F171+H171+J171 -> 0
... A177: 전산볼트 | B177: 9.52mm | C177: m | D177: 231 | K177: =E177+G177+I177 -> 0 | L177: =F177+H177+J177 -> 0
A178: 와샤&너트&소켓 | C178: EA | D178: 231 | K178: =E178+G178+I178 -> 0 | L178: =F178+H178+J178 -> 0
A179: 알루미늄 은박테이프 | C179: EA | D179: 2 | K179: =E179+G179+I179 -> 0 | L179: =F179+H179+J179 -> 0
A180: 잡자재비 | B180: 자재비의 3% | C180: 식 | D180: 1 | K180: =E180+G180+I180 -> 0 | L180: =F180+H180+J180 -> 0
A181: 장비사용 | B181: 고소작업대 | C181: 식 | D181: 2 | K181: =E181+G181+I181 -> 0 | L181: =F181+H181+J181 -> 0
...
