Workbook
Name ____DIA1: #REF!
Name ____ELL45: #REF!
Name ____ELL90: #REF!
Name ____HEI1: #REF!
Name ____MAT1: #REF!
Name ____MAT2: #REF!
Name ____P1: #REF!
Name ____P10: #REF!
Name ____P11: #REF!
Name ____P12: #REF!
Name ____P13: #REF!
Name ____P14: #REF!
Name ____P15: #REF!
Name ____P16: #REF!
Name ____P17: #REF!
Name ____P2: #REF!
Name ____P3: #REF!
Name ____P4: #REF!
Name ____P5: #REF!
Name ____P6: #REF!
Name ____P7: #REF!
Name ____P8: #REF!
Name ____P9: #REF!
Name ____PH1: #REF!
Name ____RE100: #REF!
Name ____RE104: #REF!
Name ____RE112: #REF!
Name ____RE26: #REF!
Name ____RE28: #REF!
Name ____RE30: #REF!
Name ____RE32: #REF!
Name ____RE34: #REF!
Name ____RE36: #REF!
Name ____RE38: #REF!
Name ____RE40: #REF!
Name ____RE42: #REF!
Name ____RE44: #REF!
Name ____RE48: #REF!
Name ____RE52: #REF!
Name ____RE56: #REF!
Name ____RE60: #REF!
Name ____RE64: #REF!
Name ____RE68: #REF!
Name ____RE72: #REF!
Name ____RE76: #REF!
Name ____RE80: #REF!
Name ____RE88: #REF!
Name ____RE92: #REF!
Name ____RE96: #REF!
Name ____SD1: #REF!
Name ____sd2: #REF!
Name ____ST1: #REF!
Name ____ST2: #REF!
Name ____TK1: #REF!
Name ____TS1: #REF!
Name ____TS2: #REF!
Name ____wv1: #REF!
Name ____YP1: #REF!
Name ____YP2: #REF!
Name ___DIA1: #REF!

Sheet 집계표
A1: =#REF! -> #REF!
A2: 품 명 | B2: 규 격 | C2: 단위 | D2: 수량 | E2: 재 료 비 | G2: 노 무 비 | I2: 경 비 | K2: 합 계 | M2: 비고
E3: 단가 | F3: 금액 | G3: 단가 | H3: 금액 | I3: 단가 | J3: 금액 | K3: 단가 | L3: 금액
A4: [ 집 계 표 ]
A5: 1. 시스템에어컨 설치공사
A6: ='내역서-EHP'!A4 -> 1-1. 시스템에어컨 장비 설치공사 | C6: 식 | D6: 1 | E6: ='내역서-EHP'!F34 -> 0 | F6: =TRUNC(D6*E6,0) -> 0 | G6: ='내역서-EHP'!H34 -> 0 | H6: =TRUNC(D6*G6,0) -> 0 | I6: ='내역서-EHP'!J34 -> 0 | J6: =TRUNC(D6*I6,0) -> 0 | L6: =F6+H6+J6 -> 0
A7: ='내역서-EHP'!A35 -> 1-2. 냉매배관 및 드레인배관공사 | C7: 식 | D7: 1 | E7: ='내역서-EHP'!F127 -> 0 | F7: =TRUNC(D7*E7,0) -> 0 | G7: ='내역서-EHP'!H127 -> 0 | H7: =TRUNC(D7*G7,0) -> 0 | I7: ='내역서-EHP'!J127 -> 0 | J7: =TRUNC(D7*I7,0) -> 0 | L7: =F7+H7+J7 -> 0
A8: ='내역서-EHP'!A128 -> 1-3. 제어, 시운전 및 기타공사 | C8: 식 | D8: 1 | E8: ='내역서-EHP'!F158 -> 0 | F8: =TRUNC(D8*E8,0) -> 0 | G8: ='내역서-EHP'!H158 -> 0 | H8: =TRUNC(D8*G8,0) -> 0 | I8: ='내역서-EHP'!J158 -> 0 | J8: =TRUNC(D8*I8,0) -> 0 | L8: =F8+H8+J8 -> 0
A9: ='내역서-EHP'!A159 -> 1-4. 매립덕트형 덕트공사 | C9: 식 | D9: 1 | E9: ='내역서-EHP'!F187 -> 0 | F9: =TRUNC(D9*E9,0) -> 0 | G9: ='내역서-EHP'!H187 -> 0 | H9: =TRUNC(D9*G9,0) -> 0 | I9: ='내역서-EHP'!J187 -> 0 | J9: =TRUNC(D9*I9,0) -> 0 | L9: =F9+H9+J9 -> 0
A11: [ 소 계 ] | F11: =SUM(F6:F10) -> 0 | H11: =SUM(H6:H10) -> 0 | J11: =SUM(J6:J10) -> 0 | L11: =F11+H11+J11 -> 0
A34: [ 합 계 ] | F34: =SUM(F16,F11) -> 0 | H34: =SUM(H16,H11) -> 0 | J34: =SUM(J16,J11) -> 0 | L34: =F34+H34+J34 -> 0

Sheet 내역서-EHP
A1: =#REF! -> #REF!
A2: 품 명 | B2: 규 격 | C2: 단위 | D2: 수량 | E2: 재 료 비 | G2: 노 무 비 | I2: 경 비 | K2: 합 계 | M2: 비고
E3: 단가 | F3: 금액 | G3: 단가 | H3: 금액 | I3: 단가 | J3: 금액 | K3: 단가 | L3: 금액
A4: 1-1. 시스템에어컨 장비 설치공사
A5: 실외기(8HP, MULTI V ｉ 슈프림 Lite) | B5: RPUW082X9L | C5: 대 | D5: 1 | H5: =ROUNDUP(D5*G5,0) -> 0 | J5: =ROUNDUP(D5*I5,0) -> 0 | K5: =E5+G5+I5 -> 0 | L5: =F5+H5+J5 -> 0 | M5: 에너지효율 1등급
A6: 실외기(36HP, MULTI V ｉ 슈프림 Lite) | B6: RP-W362X9L | C6: 대 | D6: 1 | H6: =ROUNDUP(D6*G6,0) -> 0 | J6: =ROUNDUP(D6*I6,0) -> 0 | K6: =E6+G6+I6 -> 0 | L6: =F6+H6+J6 -> 0 | M6: 에너지효율 1등급 실외기 조합
A7: 프리미엄 실내기 (14.5kW, 4WAY, Uvnano, 듀얼베인) | B7: RNW1451A2U | C7: 대 | D7: 1 | H7: =ROUNDUP(D7*G7,0) -> 0 | J7: =ROUNDUP(D7*I7,0) -> 0 | K7: =E7+G7+I7 -> 0 | L7: =F7+H7+J7 -> 0
A8: 실내기 (4.0kW, 저정압 매립덕트) | B8: RNW0400L2S | C8: 대 | D8: 1 | H8: =ROUNDUP(D8*G8,0) -> 0 | J8: =ROUNDUP(D8*I8,0) -> 0 | K8: =E8+G8+I8 -> 0 | L8: =F8+H8+J8 -> 0
A9: 실내기 (7.2kW, 고정압 매립덕트) | B9: RNW0721B2S | C9: 대 | D9: 1 | H9: =ROUNDUP(D9*G9,0) -> 0 | J9: =ROUNDUP(D9*I9,0) -> 0 | K9: =E9+G9+I9 -> 0 | L9: =F9+H9+J9 -> 0
A10: 실내기 (8.3kW, 고정압 매립덕트) | B10: RNW0831B2S | C10: 대 | D10: 1 | H10: =ROUNDUP(D10*G10,0) -> 0 | J10: =ROUNDUP(D10*I10,0) -> 0 | K10: =E10+G10+I10 -> 0 | L10: =F10+H10+J10 -> 0
A11: 실내기 (29.0kW, 고정압 매립덕트) | B11: RNW2900B2S | C11: 대 | D11: 3 | H11: =ROUNDUP(D11*G11,0) -> 0 | J11: =ROUNDUP(D11*I11,0) -> 0 | K11: =E11+G11+I11 -> 0 | L11: =F11+H11+J11 -> 0
A12: 판넬 - 4WAY(듀얼베인) | B12: PFP-WA4CW | C12: 대 | D12: 1 | H12: =ROUNDUP(D12*G12,0) -> 0 | J12: =ROUNDUP(D12*I12,0) -> 0 | K12: =E12+G12+I12 -> 0 | L12: =F12+H12+J12 -> 0
A13: NEW 스탠다드 유선리모컨 | B13: PREMTB101 | C13: EA | D13: 7 | H13: =ROUNDUP(D13*G13,0) -> 0 | J13: =ROUNDUP(D13*I13,0) -> 0 | K13: =E13+G13+I13 -> 0 | L13: =F13+H13+J13 -> 0
A14: 브렌치조인트 | B14: PBL-8701H2 | C14: EA | D14: 1 | H14: =ROUNDUP(D14*G14,0) -> 0 | J14: =ROUNDUP(D14*I14,0) -> 0 | K14: =E14+G14+I14 -> 0 | L14: =F14+H14+J14 -> 0
A15: 브렌치조인트 | B15: PBL-7001H2 | C15: EA | D15: 1 | H15: =ROUNDUP(D15*G15,0) -> 0 | J15: =ROUNDUP(D15*I15,0) -> 0 | K15: =E15+G15+I15 -> 0 | L15: =F15+H15+J15 -> 0
A16: 브렌치조인트 | B16: PBL-3501H2 | C16: EA | D16: 1 | H16: =ROUNDUP(D16*G16,0) -> 0 | J16: =ROUNDUP(D16*I16,0) -> 0 | K16: =E16+G16+I16 -> 0 | L16: =F16+H16+J16 -> 0
A17: 브렌치조인트 | B17: PBL-1601H2 | C17: EA | D17: 2 | H17: =ROUNDUP(D17*G17,0) -> 0 | J17: =ROUNDUP(D17*I17,0) -> 0 | K17: =E17+G17+I17 -> 0 | L17: =F17+H17+J17 -> 0
A18: 브렌치조인트 | B18: PCN-11600H2 | C18: EA | D18: 1 | H18: =ROUNDUP(D18*G18,0) -> 0 | J18: =ROUNDUP(D18*I18,0) -> 0 | K18: =E18+G18+I18 -> 0 | L18: =F18+H18+J18 -> 0
A19: 노무비 | B19: 기계설비공 | C19: 인 | D19: 7 | J19: =ROUNDUP(D19*I19,0) -> 0 | K19: =E19+G19+I19 -> 0 | L19: =F19+H19+J19 -> 0
A20: 노무비 | B20: 보통인부 | C20: 인 | D20: 1 | J20: =ROUNDUP(D20*I20,0) -> 0 | K20: =E20+G20+I20 -> 0 | L20: =F20+H20+J20 -> 0
A21: 공구손료 | B21: 노무비의 3% | C21: 식 | D21: 1 | H21: =ROUNDUP(D21*G21,0) -> 0 | J21: =ROUNDUP(D21*I21,0) -> 0 | K21: =E21+G21+I21 -> 0 | L21: =F21+H21+J21 -> 0
A34: [ 소 계 ] | F34: =SUM(F5:F33) -> 0 | H34: =SUM(H5:H33) -> 0 | J34: =SUM(J5:J33) -> 0 | L34: =F34+H34+J34 -> 0
A35: 1-2. 냉매배관 및 드레인배관공사
A36: 동파이프(연관) | B36: φ6.35 * 0.8T | C36: m | D36: 11 | H36: =ROUNDUP(D36*G36,0) -> 0 | J36: =ROUNDUP(D36*I36,0) -> 0 | K36: =E36+G36+I36 -> 0 | L36: =F36+H36+J36 -> 0
A37: 동파이프(연관) | B37: φ9.52 * 0.8T | C37: m | D37: 35 | H37: =ROUNDUP(D37*G37,0) -> 0 | J37: =ROUNDUP(D37*I37,0) -> 0 | K37: =E37+G37+I37 -> 0 | L37: =F37+H37+J37 -> 0
A38: 동파이프(연관) | B38: φ12.7 * 0.8T | C38: m | D38: 11 | H38: =ROUNDUP(D38*G38,0) -> 0 | J38: =ROUNDUP(D38*I38,0) -> 0 | K38: =E38+G38+I38 -> 0 | L38: =F38+H38+J38 -> 0
A39: 동파이프(연관) | B39: φ15.88 * 1.0T | C39: m | D39: 35 | H39: =ROUNDUP(D39*G39,0) -> 0 | J39: =ROUNDUP(D39*I39,0) -> 0 | K39: =E39+G39+I39 -> 0 | L39: =F39+H39+J39 -> 0
A40: 동파이프(직관) | B40: φ9.52 * 0.8T | C40: m | D40: 41 | H40: =ROUNDUP(D40*G40,0) -> 0 | J40: =ROUNDUP(D40*I40,0) -> 0 | K40: =E40+G40+I40 -> 0 | L40: =F40+H40+J40 -> 0
A41: 동파이프(직관) | B41: φ12.7 * 0.8T | C41: m | D41: 6 | H41: =ROUNDUP(D41*G41,0) -> 0 | J41: =ROUNDUP(D41*I41,0) -> 0 | K41: =E41+G41+I41 -> 0 | L41: =F41+H41+J41 -> 0
A42: 동파이프(직관) | B42: φ15.88 * 1.0T | C42: m | D42: 11 | H42: =ROUNDUP(D42*G42,0) -> 0 | J42: =ROUNDUP(D42*I42,0) -> 0 | K42: =E42+G42+I42 -> 0 | L42: =F42+H42+J42 -> 0
A43: 동파이프(직관) | B43: φ19.05 * 1.0T | C43: m | D43: 58 | H43: =ROUNDUP(D43*G43,0) -> 0 | J43: =ROUNDUP(D43*I43,0) -> 0 | K43: =E43+G43+I43 -> 0 | L43: =F43+H43+J43 -> 0
A44: 동파이프(직관) | B44: φ22.22 * 1.0T | C44: m | D44: 11 | H44: =ROUNDUP(D44*G44,0) -> 0 | J44: =ROUNDUP(D44*I44,0) -> 0 | K44: =E44+G44+I44 -> 0 | L44: =F44+H44+J44 -> 0
A45: 동파이프(직관) | B45: φ28.58 * 1.0T | C45: m | D45: 6 | H45: =ROUNDUP(D45*G45,0) -> 0 | J45: =ROUNDUP(D45*I45,0) -> 0 | K45: =E45+G45+I45 -> 0 | L45: =F45+H45+J45 -> 0
A46: 동파이프(직관) | B46: φ34.92 * 1.2T | C46: m | D46: 11 | H46: =ROUNDUP(D46*G46,0) -> 0 | J46: =ROUNDUP(D46*I46,0) -> 0 | K46: =E46+G46+I46 -> 0 | L46: =F46+H46+J46 -> 0
A47: 동파이프(직관) | B47: φ41.28 * 1.45T | C47: m | D47: 28 | H47: =ROUNDUP(D47*G47,0) -> 0 | J47: =ROUNDUP(D47*I47,0) -> 0 | K47: =E47+G47+I47 -> 0 | L47: =F47+H47+J47 -> 0
... A77: 고무발포보온재연결부보강테이프 | B77: 50mm*50m | C77: EA | D77: 2 | H77: =ROUNDUP(D77*G77,0) -> 0 | J77: =ROUNDUP(D77*I77,0) -> 0 | K77: =E77+G77+I77 -> 0 | L77: =F77+H77+J77 -> 0
A78: 냉동마감테이프 | C78: EA | D78: 6 | H78: =ROUNDUP(D78*G78,0) -> 0 | J78: =ROUNDUP(D78*I78,0) -> 0 | K78: =E78+G78+I78 -> 0 | L78: =F78+H78+J78 -> 0
A79: 압력게이지 | B79: 70kgf/㎠ (R-410A 用) | C79: EA | D79: 2 | H79: =ROUNDUP(D79*G79,0) -> 0 | J79: =ROUNDUP(D79*I79,0) -> 0 | K79: =E79+G79+I79 -> 0 | L79: =F79+H79+J79 -> 0
A80: 차지니쁠 | B80: φ6.35 | C80: EA | D80: 2 | H80: =ROUNDUP(D80*G80,0) -> 0 | J80: =ROUNDUP(D80*I80,0) -> 0 | K80: =E80+G80+I80 -> 0 | L80: =F80+H80+J80 -> 0
A81: 후레어너트 | B81: φ6.35 | C81: EA | D81: 2 | H81: =ROUNDUP(D81*G81,0) -> 0 | J81: =ROUNDUP(D81*I81,0) -> 0 | K81: =E81+G81+I81 -> 0 | L81: =F81+H81+J81 -> 0
...
